BEGIN:VCALENDAR
VERSION:2.0
PRODID:-//Integrative Biology and Physiology - ECPv6.15.20//NONSGML v1.0//EN
CALSCALE:GREGORIAN
METHOD:PUBLISH
X-WR-CALNAME:Integrative Biology and Physiology
X-ORIGINAL-URL:https://www.ibp.ucla.edu
X-WR-CALDESC:Events for Integrative Biology and Physiology
REFRESH-INTERVAL;VALUE=DURATION:PT1H
X-Robots-Tag:noindex
X-PUBLISHED-TTL:PT1H
BEGIN:VTIMEZONE
TZID:America/Los_Angeles
BEGIN:DAYLIGHT
TZOFFSETFROM:-0800
TZOFFSETTO:-0700
TZNAME:PDT
DTSTART:20200308T100000
END:DAYLIGHT
BEGIN:STANDARD
TZOFFSETFROM:-0700
TZOFFSETTO:-0800
TZNAME:PST
DTSTART:20201101T090000
END:STANDARD
BEGIN:DAYLIGHT
TZOFFSETFROM:-0800
TZOFFSETTO:-0700
TZNAME:PDT
DTSTART:20210314T100000
END:DAYLIGHT
BEGIN:STANDARD
TZOFFSETFROM:-0700
TZOFFSETTO:-0800
TZNAME:PST
DTSTART:20211107T090000
END:STANDARD
BEGIN:DAYLIGHT
TZOFFSETFROM:-0800
TZOFFSETTO:-0700
TZNAME:PDT
DTSTART:20220313T100000
END:DAYLIGHT
BEGIN:STANDARD
TZOFFSETFROM:-0700
TZOFFSETTO:-0800
TZNAME:PST
DTSTART:20221106T090000
END:STANDARD
END:VTIMEZONE
BEGIN:VEVENT
DTSTART;TZID=America/Los_Angeles:20210209T110000
DTEND;TZID=America/Los_Angeles:20210209T120000
DTSTAMP:20260420T013513
CREATED:20210208T194033Z
LAST-MODIFIED:20210208T194033Z
UID:3456-1612868400-1612872000@www.ibp.ucla.edu
SUMMARY:Vascular Biology Training Grant Seminar Series: Dr. Pearl Quijada\, Ph.D.
DESCRIPTION:UCLA Vascular Biology Training Grant Seminar Series \n \nDr. Pearl Quijada\, Ph.D.\nAssistant Professor\, Integrative Biology and Physiology\nUniversity of California at Los Angeles \n“Coordination of vascular patterning by the epicardium” \nTuesday\, February 9th\, 2021\nMeeting Time: 11am-12pm PST \nZoom Link:\nhttps://ucla.zoom.us/j/91563260461?pwd=M2E4RW9hNnE4ZGMrMkZOUk11MXZSZz09 \n\n\n\nMeeting ID: 915 6326 0461 Passcode: 981476 \nPlease contact njobanputra@mednet.ucla.edu for any questions.
URL:https://www.ibp.ucla.edu/event/vascular-biology-training-grant-seminar-series-dr-pearl-quijada-ph-d/
LOCATION:Zoom
CATEGORIES:Seminars
ATTACH;FMTTYPE=image/png:https://wp.lifesci.ucla.edu/ibp/wp-content/uploads/sites/2/2020/10/pearl.png
END:VEVENT
BEGIN:VEVENT
DTSTART;TZID=America/Los_Angeles:20210209T173000
DTEND;TZID=America/Los_Angeles:20210209T183000
DTSTAMP:20260420T013513
CREATED:20210205T204510Z
LAST-MODIFIED:20210205T204641Z
UID:3426-1612891800-1612895400@www.ibp.ucla.edu
SUMMARY:Let’s Talk Science: Sleep\, the Brain\, and Human Health from Adolescents to Adults
DESCRIPTION:UCLA Life Sciences\ninvites you to a special virtual event\n\nLet’s Talk Science:\nSleep\, the Brain\, and Human Health\nfrom Adolescents to Adults \n\nan illuminating conversation featuring\n\nGene Block\, Ph.D.\nUCLA Chancellor\n\nAdriana Galván\, Ph.D.\nProfessor\, Department of Psychology\nDean\, Undergraduate Education\, UCLA College \nGina Poe\, Ph.D.\nProfessor\, Department of Integrative Biology & Physiology \nwith Q&A ​​​​​​moderated by \nTracy Johnson\, Ph.D.\nProfessor\, Department of Molecular\, Cell & Developmental Biology\nDean\, Life Sciences\, UCLA College \nJoin us for the inaugural event in a compelling new lecture series hosted by Dean of Life Sciences Tracy Johnson. The series highlights UCLA’s research expertise focused on today’s most urgent challenges\, from diseases and treatments to mental health\, the environment\, and the role of science in society. \n\n\n\n\n\nThe presentations will be followed by a Q&A session. Please submit your questions in advance via email to koleary@support.ucla.edu by Monday\, February 8 at 12:00 p.m.
URL:https://www.ibp.ucla.edu/event/lets-talk-science-sleep-the-brain-and-human-health-from-adolescents-to-adults/
LOCATION:Zoom
ATTACH;FMTTYPE=image/png:https://wp.lifesci.ucla.edu/ibp/wp-content/uploads/sites/2/2021/02/cd79acf2-7b0f-420f-b6e2-985cfd546e55-1.png
END:VEVENT
BEGIN:VEVENT
DTSTART;TZID=America/Los_Angeles:20210223T120000
DTEND;TZID=America/Los_Angeles:20210223T130000
DTSTAMP:20260420T013513
CREATED:20210217T020530Z
LAST-MODIFIED:20210217T020530Z
UID:3470-1614081600-1614085200@www.ibp.ucla.edu
SUMMARY:MBI Faculty Seminar: Pearl Quijada\, Ph.D.
DESCRIPTION:“Coordination of endothelial cell maturation and patterning by the epicardium” \nThe coronary plexus arises from the integration of endothelial cells (ECs) with supportive mural cells and signals stemming from the epicardium. Synchronized with coronary remodeling\, the epicardium undergoes epithelial-to-mesenchymal transformation (EMT); a process that regulates cell differentiation and growth factor secretion. Genetic mouse models with limited epicardial EMT have reduced subepicardial mesenchyme formation in addition to dysfunctional vasculature networks\, yet the mechanisms underlying this catastrophic phenotype are unknown. Our lab aims to identify the specialized epicardial cells guiding the specification of the coronary plexus. To achieve this goal\, we utilize cell-lineage tracing models coupled with the investigation of transcriptional programs from epicardial cells and ECs using single cell RNA sequencing. The epicardium’s role in facilitating arterio-venous specification is emerging as a novel mechanism to support regenerative-based medicine. Our essential goal is to identify fetal vascular guidance cues that may be harnessed for the development of therapies to treat vascular diseases. \nJoin Zoom Meeting\nhttps://ucla.zoom.us/j/95104392930?pwd=UlluT0hacjRUb1NxVE41bjgrUDdRdz09 \nMeeting ID: 951 0439 2930\nPasscode: 299376
URL:https://www.ibp.ucla.edu/event/mbi-faculty-seminar-pearl-quijada-ph-d/
LOCATION:Zoom
CATEGORIES:Seminars
ATTACH;FMTTYPE=image/png:https://wp.lifesci.ucla.edu/ibp/wp-content/uploads/sites/2/2020/10/pearl.png
END:VEVENT
END:VCALENDAR