BEGIN:VCALENDAR
VERSION:2.0
PRODID:-//Integrative Biology and Physiology - ECPv6.15.20//NONSGML v1.0//EN
CALSCALE:GREGORIAN
METHOD:PUBLISH
X-ORIGINAL-URL:https://www.ibp.ucla.edu
X-WR-CALDESC:Events for Integrative Biology and Physiology
REFRESH-INTERVAL;VALUE=DURATION:PT1H
X-Robots-Tag:noindex
X-PUBLISHED-TTL:PT1H
BEGIN:VTIMEZONE
TZID:America/Los_Angeles
BEGIN:DAYLIGHT
TZOFFSETFROM:-0800
TZOFFSETTO:-0700
TZNAME:PDT
DTSTART:20190310T100000
END:DAYLIGHT
BEGIN:STANDARD
TZOFFSETFROM:-0700
TZOFFSETTO:-0800
TZNAME:PST
DTSTART:20191103T090000
END:STANDARD
BEGIN:DAYLIGHT
TZOFFSETFROM:-0800
TZOFFSETTO:-0700
TZNAME:PDT
DTSTART:20200308T100000
END:DAYLIGHT
BEGIN:STANDARD
TZOFFSETFROM:-0700
TZOFFSETTO:-0800
TZNAME:PST
DTSTART:20201101T090000
END:STANDARD
BEGIN:DAYLIGHT
TZOFFSETFROM:-0800
TZOFFSETTO:-0700
TZNAME:PDT
DTSTART:20210314T100000
END:DAYLIGHT
BEGIN:STANDARD
TZOFFSETFROM:-0700
TZOFFSETTO:-0800
TZNAME:PST
DTSTART:20211107T090000
END:STANDARD
END:VTIMEZONE
BEGIN:VEVENT
DTSTART;TZID=America/Los_Angeles:20201110T120000
DTEND;TZID=America/Los_Angeles:20201110T130000
DTSTAMP:20260420T054105
CREATED:20201030T203032Z
LAST-MODIFIED:20201109T184536Z
UID:3326-1605009600-1605013200@www.ibp.ucla.edu
SUMMARY:I3T Seminar / Research in Progress - Geoff Pronovost
DESCRIPTION:I3T Seminar/ Research in Progress (RIP) \nTBD \nGeoff Pronovost \nStudent\, Integrative Biology & Physiology (E. Hsiao’s Lab)\, \nUCLA College of Letters & Sciences \nZoom Registration – \nhttps://uclahs.zoom.us/webinar/register/WN_Au4lh6TLRUCw05bYK8lwZg \nContact – Emma Planas – eplanas@mednet.ucla.edu
URL:https://www.ibp.ucla.edu/event/i3t-seminar-research-in-progress-geoff-pronovost/
LOCATION:Zoom
CATEGORIES:Seminars
ATTACH;FMTTYPE=image/jpeg:https://wp.lifesci.ucla.edu/ibp/wp-content/uploads/sites/2/2020/10/Pronovost-Geoff--scaled.jpg
END:VEVENT
BEGIN:VEVENT
DTSTART;TZID=America/Los_Angeles:20201120T120000
DTEND;TZID=America/Los_Angeles:20201120T130000
DTSTAMP:20260420T054105
CREATED:20201109T184328Z
LAST-MODIFIED:20201109T184328Z
UID:3351-1605873600-1605877200@www.ibp.ucla.edu
SUMMARY:Estrogenic Modulation of Neural Circuits that Maintain Homeostasis - Professor Stephanie Correa
DESCRIPTION:Laboratory of Neuroendocrinology Seminar (LNE) Series \nEstrogenic Modulation of Neural Circuits that Maintain Homeostasis \nStephanie Correa\, PhD \nAssistant Professor\, Integrative Biology & Physiology\, \nUCLA College of Letters and Sciences \nZoom – \nhttps://uclahs.zoom.us/j/92587908101?pwd=S2plZ25xcVY2aG4ybVJoejBjNC9Kdz09 \nPlease contact Catherine for password. \nContact – Catherine Westin – cweston@mednet.ucla.edu
URL:https://www.ibp.ucla.edu/event/estrogenic-modulation-of-neural-circuits-that-maintain-homeostasis-professor-stephanie-correa/
LOCATION:Zoom
CATEGORIES:Seminars
ATTACH;FMTTYPE=image/jpeg:https://wp.lifesci.ucla.edu/ibp/wp-content/uploads/sites/2/2020/06/stephanie-correa-square.jpg
END:VEVENT
END:VCALENDAR