BEGIN:VCALENDAR
VERSION:2.0
PRODID:-//Integrative Biology and Physiology - ECPv6.15.20//NONSGML v1.0//EN
CALSCALE:GREGORIAN
METHOD:PUBLISH
X-WR-CALNAME:Integrative Biology and Physiology
X-ORIGINAL-URL:https://www.ibp.ucla.edu
X-WR-CALDESC:Events for Integrative Biology and Physiology
REFRESH-INTERVAL;VALUE=DURATION:PT1H
X-Robots-Tag:noindex
X-PUBLISHED-TTL:PT1H
BEGIN:VTIMEZONE
TZID:America/Los_Angeles
BEGIN:DAYLIGHT
TZOFFSETFROM:-0800
TZOFFSETTO:-0700
TZNAME:PDT
DTSTART:20210314T100000
END:DAYLIGHT
BEGIN:STANDARD
TZOFFSETFROM:-0700
TZOFFSETTO:-0800
TZNAME:PST
DTSTART:20211107T090000
END:STANDARD
BEGIN:DAYLIGHT
TZOFFSETFROM:-0800
TZOFFSETTO:-0700
TZNAME:PDT
DTSTART:20220313T100000
END:DAYLIGHT
BEGIN:STANDARD
TZOFFSETFROM:-0700
TZOFFSETTO:-0800
TZNAME:PST
DTSTART:20221106T090000
END:STANDARD
BEGIN:DAYLIGHT
TZOFFSETFROM:-0800
TZOFFSETTO:-0700
TZNAME:PDT
DTSTART:20230312T100000
END:DAYLIGHT
BEGIN:STANDARD
TZOFFSETFROM:-0700
TZOFFSETTO:-0800
TZNAME:PST
DTSTART:20231105T090000
END:STANDARD
END:VTIMEZONE
BEGIN:VEVENT
DTSTART;TZID=America/Los_Angeles:20220323T070000
DTEND;TZID=America/Los_Angeles:20220323T080000
DTSTAMP:20260419T080622
CREATED:20220321T190830Z
LAST-MODIFIED:20220321T190907Z
UID:4059-1648018800-1648022400@www.ibp.ucla.edu
SUMMARY:UCLA Neurosurgery Casa Colina Lecture Series: Distinguished Professor Reggie Edgerton
DESCRIPTION:“Multiple mechanisms in play with spinal neuromodulation of sensorimotor dysfunctions” \nWednesday\, March 23\, from 7-8 AM. \nDr. Edgerton received his Ph.D. in Exercise Physiology from Michigan State University\, Masters from University of Iowa and BS from East Carolina University. He is currently the Director of the Neuromuscular Research Laboratory and a Distinguished Professor of the Departments of Integrative Biology and Physiology\, Neurobiology\, and Neurosurgery. He has been teaching and conducting research at UCLA for over 50 years. His research is focused on how the neural networks in the lumbar spinal cord of mammals\, including humans\, regain control of standing\, stepping and voluntary control of fine movements after paralysis\, and how can these motor functions be modified by chronically imposing activity-dependent interventions after spinal cord injury. \nZoom Meeting ID: 922 5442 0305 \nDownload Flyer: \nUCLA-Casa Colina Virtual Lecture 3.23.22
URL:https://www.ibp.ucla.edu/event/ucla-neurosurgery-casa-colina-lecture-series-distinguished-professor-reggie-edgerton/
LOCATION:Zoom
CATEGORIES:Seminars
ATTACH;FMTTYPE=image/jpeg:https://wp.lifesci.ucla.edu/ibp/wp-content/uploads/sites/2/2020/06/reggie-edgerton.jpg
END:VEVENT
END:VCALENDAR