BEGIN:VCALENDAR
VERSION:2.0
PRODID:-//Integrative Biology and Physiology - ECPv6.15.20//NONSGML v1.0//EN
CALSCALE:GREGORIAN
METHOD:PUBLISH
X-WR-CALNAME:Integrative Biology and Physiology
X-ORIGINAL-URL:https://www.ibp.ucla.edu
X-WR-CALDESC:Events for Integrative Biology and Physiology
REFRESH-INTERVAL;VALUE=DURATION:PT1H
X-Robots-Tag:noindex
X-PUBLISHED-TTL:PT1H
BEGIN:VTIMEZONE
TZID:America/Los_Angeles
BEGIN:DAYLIGHT
TZOFFSETFROM:-0800
TZOFFSETTO:-0700
TZNAME:PDT
DTSTART:20210314T100000
END:DAYLIGHT
BEGIN:STANDARD
TZOFFSETFROM:-0700
TZOFFSETTO:-0800
TZNAME:PST
DTSTART:20211107T090000
END:STANDARD
BEGIN:DAYLIGHT
TZOFFSETFROM:-0800
TZOFFSETTO:-0700
TZNAME:PDT
DTSTART:20220313T100000
END:DAYLIGHT
BEGIN:STANDARD
TZOFFSETFROM:-0700
TZOFFSETTO:-0800
TZNAME:PST
DTSTART:20221106T090000
END:STANDARD
BEGIN:DAYLIGHT
TZOFFSETFROM:-0800
TZOFFSETTO:-0700
TZNAME:PDT
DTSTART:20230312T100000
END:DAYLIGHT
BEGIN:STANDARD
TZOFFSETFROM:-0700
TZOFFSETTO:-0800
TZNAME:PST
DTSTART:20231105T090000
END:STANDARD
END:VTIMEZONE
BEGIN:VEVENT
DTSTART;TZID=America/Los_Angeles:20220318T153000
DTEND;TZID=America/Los_Angeles:20220318T170000
DTSTAMP:20260419T080736
CREATED:20220304T184503Z
LAST-MODIFIED:20220304T184503Z
UID:4041-1647617400-1647622800@www.ibp.ucla.edu
SUMMARY:Synapse to Circuit Seminar - Kelly Jameson
DESCRIPTION:Kelly Jameson\nPh.D. Candidate\, Integrative Biology & Physiology (E. Hsiao’s Lab)\nUCLA College of Letters and Sciences \nZoom Info – https://uclahs.fyi/S2C22 \nContact – Laura Schreiber – lschreiber@mednet.ucla.edu
URL:https://www.ibp.ucla.edu/event/synapse-to-circuit-seminar-kelly-jameson/
LOCATION:Zoom
CATEGORIES:Seminars
ATTACH;FMTTYPE=image/png:https://wp.lifesci.ucla.edu/ibp/wp-content/uploads/sites/2/2022/03/kellyjameson.png
ORGANIZER;CN="Laura Schreiber":MAILTO:lschreiber@mednet.ucla.edu
END:VEVENT
END:VCALENDAR