BEGIN:VCALENDAR
VERSION:2.0
PRODID:-//Integrative Biology and Physiology - ECPv6.15.20//NONSGML v1.0//EN
CALSCALE:GREGORIAN
METHOD:PUBLISH
X-WR-CALNAME:Integrative Biology and Physiology
X-ORIGINAL-URL:https://www.ibp.ucla.edu
X-WR-CALDESC:Events for Integrative Biology and Physiology
REFRESH-INTERVAL;VALUE=DURATION:PT1H
X-Robots-Tag:noindex
X-PUBLISHED-TTL:PT1H
BEGIN:VTIMEZONE
TZID:America/Los_Angeles
BEGIN:DAYLIGHT
TZOFFSETFROM:-0800
TZOFFSETTO:-0700
TZNAME:PDT
DTSTART:20200308T100000
END:DAYLIGHT
BEGIN:STANDARD
TZOFFSETFROM:-0700
TZOFFSETTO:-0800
TZNAME:PST
DTSTART:20201101T090000
END:STANDARD
BEGIN:DAYLIGHT
TZOFFSETFROM:-0800
TZOFFSETTO:-0700
TZNAME:PDT
DTSTART:20210314T100000
END:DAYLIGHT
BEGIN:STANDARD
TZOFFSETFROM:-0700
TZOFFSETTO:-0800
TZNAME:PST
DTSTART:20211107T090000
END:STANDARD
BEGIN:DAYLIGHT
TZOFFSETFROM:-0800
TZOFFSETTO:-0700
TZNAME:PDT
DTSTART:20220313T100000
END:DAYLIGHT
BEGIN:STANDARD
TZOFFSETFROM:-0700
TZOFFSETTO:-0800
TZNAME:PST
DTSTART:20221106T090000
END:STANDARD
END:VTIMEZONE
BEGIN:VEVENT
DTSTART;TZID=America/Los_Angeles:20211108T170000
DTEND;TZID=America/Los_Angeles:20211108T180000
DTSTAMP:20260419T140034
CREATED:20211018T202535Z
LAST-MODIFIED:20211115T194632Z
UID:3958-1636390800-1636394400@www.ibp.ucla.edu
SUMMARY:The Future of Food and the Brain-Body Connection
DESCRIPTION:The UCLA Department of Integrative Biology and Physiology\ninvites you to a special virtual event \nThe Future of Food and the Brain-Body Connection \na conversation featuring \nElaine Hsiao\, Ph.D.\nDe Logi Professor of Biological Sciences\, Department of Integrative Biology and Physiology \nAmy Rowat\, Ph.D.\nAssociate Professor\, Department of Integrative Biology and Physiology\nMarcie H. Rothman Presidential Chair in Food Studies \nwith Q&A moderated by \nRachelle H. Crosbie\, Ph.D.\nChair and Professor\, Department of Integrative Biology and Physiology\nJoin the journey into the future of food with world-renowned professors of UCLA’s Department of Integrative Biology and Physiology. The webinar will explore how science can develop tailored formulations of microorganisms that could improve brain health\, or even engineer precisely tailored meats\, like a marbled steak. Dr. Elaine Hsiao will discuss recent advances in understanding how the gut microbiome interacts with diet and the nervous system to impact brain health and complex behaviors. She will be joined by Dr. Amy Rowat\, who will discuss the pioneering approaches her lab is taking to grow muscle and fat tissue for cultured meat applications.
URL:https://www.ibp.ucla.edu/event/the-future-of-food-and-the-brain-body-connection/
LOCATION:Zoom
ATTACH;FMTTYPE=image/jpeg:https://wp.lifesci.ucla.edu/ibp/wp-content/uploads/sites/2/2021/10/futureoffood.jpg
END:VEVENT
END:VCALENDAR