BEGIN:VCALENDAR
VERSION:2.0
PRODID:-//Integrative Biology and Physiology - ECPv6.15.20//NONSGML v1.0//EN
CALSCALE:GREGORIAN
METHOD:PUBLISH
X-WR-CALNAME:Integrative Biology and Physiology
X-ORIGINAL-URL:https://www.ibp.ucla.edu
X-WR-CALDESC:Events for Integrative Biology and Physiology
REFRESH-INTERVAL;VALUE=DURATION:PT1H
X-Robots-Tag:noindex
X-PUBLISHED-TTL:PT1H
BEGIN:VTIMEZONE
TZID:America/Los_Angeles
BEGIN:DAYLIGHT
TZOFFSETFROM:-0800
TZOFFSETTO:-0700
TZNAME:PDT
DTSTART:20200308T100000
END:DAYLIGHT
BEGIN:STANDARD
TZOFFSETFROM:-0700
TZOFFSETTO:-0800
TZNAME:PST
DTSTART:20201101T090000
END:STANDARD
BEGIN:DAYLIGHT
TZOFFSETFROM:-0800
TZOFFSETTO:-0700
TZNAME:PDT
DTSTART:20210314T100000
END:DAYLIGHT
BEGIN:STANDARD
TZOFFSETFROM:-0700
TZOFFSETTO:-0800
TZNAME:PST
DTSTART:20211107T090000
END:STANDARD
BEGIN:DAYLIGHT
TZOFFSETFROM:-0800
TZOFFSETTO:-0700
TZNAME:PDT
DTSTART:20220313T100000
END:DAYLIGHT
BEGIN:STANDARD
TZOFFSETFROM:-0700
TZOFFSETTO:-0800
TZNAME:PST
DTSTART:20221106T090000
END:STANDARD
END:VTIMEZONE
BEGIN:VEVENT
DTSTART;TZID=America/Los_Angeles:20210423T120000
DTEND;TZID=America/Los_Angeles:20210423T130000
DTSTAMP:20260420T002054
CREATED:20210408T225113Z
LAST-MODIFIED:20210408T225149Z
UID:3645-1619179200-1619182800@www.ibp.ucla.edu
SUMMARY:Removing the Gender/Sex Binary from Our Research and Testing - Stephanie Correa\, Ph.D. & Megan Massa
DESCRIPTION:Laboratory of Neuroendocrinology Seminar (LNE) Series \nRemoving the Gender/ Sex Binary from Our Research and Testing \nStephanie Correa\, PhD\nAssistant Professor\, Integrative Biology & Physiology\,     – and – \nMegan Massa\nStudent\, Integrative Biology & Physiology (S. Correa’s Lab)\, \nUCLA College of Letters & Sciences \nZoom – \nhttps://uclahs.zoom.us/j/92587908101?pwd=S2plZ25xcVY2aG4ybVJoejBjNC9Kdz09 \nPlease contact Catherine for password. \nContact – Catherine Westin – cweston@mednet.ucla.edu
URL:https://www.ibp.ucla.edu/event/removing-the-gender-sex-binary-from-our-research-and-testing-stephanie-correa-ph-d-megan-massa/
LOCATION:Zoom
CATEGORIES:Seminars
ATTACH;FMTTYPE=image/jpeg:https://wp.lifesci.ucla.edu/ibp/wp-content/uploads/sites/2/2020/07/Stephanie-Correa-scaled.jpg
END:VEVENT
END:VCALENDAR