BEGIN:VCALENDAR
VERSION:2.0
PRODID:-//Integrative Biology and Physiology - ECPv6.15.20//NONSGML v1.0//EN
CALSCALE:GREGORIAN
METHOD:PUBLISH
X-WR-CALNAME:Integrative Biology and Physiology
X-ORIGINAL-URL:https://www.ibp.ucla.edu
X-WR-CALDESC:Events for Integrative Biology and Physiology
REFRESH-INTERVAL;VALUE=DURATION:PT1H
X-Robots-Tag:noindex
X-PUBLISHED-TTL:PT1H
BEGIN:VTIMEZONE
TZID:America/Los_Angeles
BEGIN:DAYLIGHT
TZOFFSETFROM:-0800
TZOFFSETTO:-0700
TZNAME:PDT
DTSTART:20190310T100000
END:DAYLIGHT
BEGIN:STANDARD
TZOFFSETFROM:-0700
TZOFFSETTO:-0800
TZNAME:PST
DTSTART:20191103T090000
END:STANDARD
BEGIN:DAYLIGHT
TZOFFSETFROM:-0800
TZOFFSETTO:-0700
TZNAME:PDT
DTSTART:20200308T100000
END:DAYLIGHT
BEGIN:STANDARD
TZOFFSETFROM:-0700
TZOFFSETTO:-0800
TZNAME:PST
DTSTART:20201101T090000
END:STANDARD
BEGIN:DAYLIGHT
TZOFFSETFROM:-0800
TZOFFSETTO:-0700
TZNAME:PDT
DTSTART:20210314T100000
END:DAYLIGHT
BEGIN:STANDARD
TZOFFSETFROM:-0700
TZOFFSETTO:-0800
TZNAME:PST
DTSTART:20211107T090000
END:STANDARD
END:VTIMEZONE
BEGIN:VEVENT
DTSTART;TZID=America/Los_Angeles:20201201T120000
DTEND;TZID=America/Los_Angeles:20201201T130000
DTSTAMP:20260420T054001
CREATED:20201002T183230Z
LAST-MODIFIED:20201002T183230Z
UID:3260-1606824000-1606827600@www.ibp.ucla.edu
SUMMARY:MBI Faculty Research Seminar Series - Professor Roy Wollman
DESCRIPTION:
URL:https://www.ibp.ucla.edu/event/mbi-faculty-research-seminar-series-professor-roy-wollman/
LOCATION:Zoom
CATEGORIES:Seminars
ATTACH;FMTTYPE=image/jpeg:https://wp.lifesci.ucla.edu/ibp/wp-content/uploads/sites/2/2020/06/roy-wollman.jpg
END:VEVENT
END:VCALENDAR