BEGIN:VCALENDAR
VERSION:2.0
PRODID:-//Integrative Biology and Physiology - ECPv6.15.20//NONSGML v1.0//EN
CALSCALE:GREGORIAN
METHOD:PUBLISH
X-WR-CALNAME:Integrative Biology and Physiology
X-ORIGINAL-URL:https://www.ibp.ucla.edu
X-WR-CALDESC:Events for Integrative Biology and Physiology
REFRESH-INTERVAL;VALUE=DURATION:PT1H
X-Robots-Tag:noindex
X-PUBLISHED-TTL:PT1H
BEGIN:VTIMEZONE
TZID:America/Los_Angeles
BEGIN:DAYLIGHT
TZOFFSETFROM:-0800
TZOFFSETTO:-0700
TZNAME:PDT
DTSTART:20190310T100000
END:DAYLIGHT
BEGIN:STANDARD
TZOFFSETFROM:-0700
TZOFFSETTO:-0800
TZNAME:PST
DTSTART:20191103T090000
END:STANDARD
BEGIN:DAYLIGHT
TZOFFSETFROM:-0800
TZOFFSETTO:-0700
TZNAME:PDT
DTSTART:20200308T100000
END:DAYLIGHT
BEGIN:STANDARD
TZOFFSETFROM:-0700
TZOFFSETTO:-0800
TZNAME:PST
DTSTART:20201101T090000
END:STANDARD
BEGIN:DAYLIGHT
TZOFFSETFROM:-0800
TZOFFSETTO:-0700
TZNAME:PDT
DTSTART:20210314T100000
END:DAYLIGHT
BEGIN:STANDARD
TZOFFSETFROM:-0700
TZOFFSETTO:-0800
TZNAME:PST
DTSTART:20211107T090000
END:STANDARD
END:VTIMEZONE
BEGIN:VEVENT
DTSTART;TZID=America/Los_Angeles:20201016T120000
DTEND;TZID=America/Los_Angeles:20201016T130000
DTSTAMP:20260420T082530
CREATED:20201002T183045Z
LAST-MODIFIED:20201002T183045Z
UID:3257-1602849600-1602853200@www.ibp.ucla.edu
SUMMARY:The Past and Future of Four Core Genotypes Models - Professor Art Arnold
DESCRIPTION:Laboratory of Neuroendocrinology Seminar (LNE) Series \nThe Past and Future of Four Core Genotypes Models \nArt Arnold\, PhD \nProfessor\, Integrative Biology & Physiology\, \nUCLA College of Letters & Sciences \nZoom – https://uclahs.zoom.us/j/92587908101?pwd=S2plZ25xcVY2aG4ybVJoejBjNC9Kdz09 \nPlease contact Catherine for password. \nContact – Catherine Westin – cweston@mednet.ucla.edu
URL:https://www.ibp.ucla.edu/event/the-past-and-future-of-four-core-genotypes-models-professor-art-arnold/
LOCATION:Zoom
CATEGORIES:Seminars
ATTACH;FMTTYPE=image/jpeg:https://wp.lifesci.ucla.edu/ibp/wp-content/uploads/sites/2/2019/12/Arnold-Art-scaled-e1581442676837.jpeg
END:VEVENT
END:VCALENDAR