BEGIN:VCALENDAR
VERSION:2.0
PRODID:-//Integrative Biology and Physiology - ECPv6.15.20//NONSGML v1.0//EN
CALSCALE:GREGORIAN
METHOD:PUBLISH
X-WR-CALNAME:Integrative Biology and Physiology
X-ORIGINAL-URL:https://www.ibp.ucla.edu
X-WR-CALDESC:Events for Integrative Biology and Physiology
REFRESH-INTERVAL;VALUE=DURATION:PT1H
X-Robots-Tag:noindex
X-PUBLISHED-TTL:PT1H
BEGIN:VTIMEZONE
TZID:America/Los_Angeles
BEGIN:DAYLIGHT
TZOFFSETFROM:-0800
TZOFFSETTO:-0700
TZNAME:PDT
DTSTART:20190310T100000
END:DAYLIGHT
BEGIN:STANDARD
TZOFFSETFROM:-0700
TZOFFSETTO:-0800
TZNAME:PST
DTSTART:20191103T090000
END:STANDARD
BEGIN:DAYLIGHT
TZOFFSETFROM:-0800
TZOFFSETTO:-0700
TZNAME:PDT
DTSTART:20200308T100000
END:DAYLIGHT
BEGIN:STANDARD
TZOFFSETFROM:-0700
TZOFFSETTO:-0800
TZNAME:PST
DTSTART:20201101T090000
END:STANDARD
BEGIN:DAYLIGHT
TZOFFSETFROM:-0800
TZOFFSETTO:-0700
TZNAME:PDT
DTSTART:20210314T100000
END:DAYLIGHT
BEGIN:STANDARD
TZOFFSETFROM:-0700
TZOFFSETTO:-0800
TZNAME:PST
DTSTART:20211107T090000
END:STANDARD
END:VTIMEZONE
BEGIN:VEVENT
DTSTART;TZID=America/Los_Angeles:20200630T120000
DTEND;TZID=America/Los_Angeles:20200630T130000
DTSTAMP:20260420T121521
CREATED:20200618T230756Z
LAST-MODIFIED:20200625T183222Z
UID:3010-1593518400-1593522000@www.ibp.ucla.edu
SUMMARY:What a Bird Can Tell You About Your Brain - Professor Stephanie White
DESCRIPTION:BRI / Joint Seminars in Neuroscience / William Scheibel Chair \nin Neuroscience \nWhat a Bird Can Tell You About Your Brain \nStephanie White\, PhD \nProfessor\, Integrative Biology & Physiology\, UCLA College of \nLetters & Sciences\, \nBreakdown of Spatial Coding in Temporal Lobe Epilepsy \nPeyman Golshani\, MD\, PhD \nProfessor\, Neurology and Psychiatry & Biobehavioral Sciences\, \nDavid Geffen School of Medicine at UCLA\nRegistration: https://uclahs.zoom.us/meeting/register/tJ0vdOCsqjMiGtPTbZ78x_v-gRboUTpbas4D \nWebsite – bri.ucla.edu/events/calendar \nContact – Joseph Quintero – jmquintero@mednet.ucla.edu
URL:https://www.ibp.ucla.edu/event/what-a-bird-can-tell-you-about-your-brain-professor-stephanie-white/
LOCATION:Zoom
CATEGORIES:Seminars
ATTACH;FMTTYPE=image/jpeg:https://wp.lifesci.ucla.edu/ibp/wp-content/uploads/sites/2/2020/06/stephanie-white.jpg
END:VEVENT
END:VCALENDAR