BEGIN:VCALENDAR
VERSION:2.0
PRODID:-//Integrative Biology and Physiology - ECPv6.15.20//NONSGML v1.0//EN
CALSCALE:GREGORIAN
METHOD:PUBLISH
X-WR-CALNAME:Integrative Biology and Physiology
X-ORIGINAL-URL:https://www.ibp.ucla.edu
X-WR-CALDESC:Events for Integrative Biology and Physiology
REFRESH-INTERVAL;VALUE=DURATION:PT1H
X-Robots-Tag:noindex
X-PUBLISHED-TTL:PT1H
BEGIN:VTIMEZONE
TZID:America/Los_Angeles
BEGIN:DAYLIGHT
TZOFFSETFROM:-0800
TZOFFSETTO:-0700
TZNAME:PDT
DTSTART:20190310T100000
END:DAYLIGHT
BEGIN:STANDARD
TZOFFSETFROM:-0700
TZOFFSETTO:-0800
TZNAME:PST
DTSTART:20191103T090000
END:STANDARD
BEGIN:DAYLIGHT
TZOFFSETFROM:-0800
TZOFFSETTO:-0700
TZNAME:PDT
DTSTART:20200308T100000
END:DAYLIGHT
BEGIN:STANDARD
TZOFFSETFROM:-0700
TZOFFSETTO:-0800
TZNAME:PST
DTSTART:20201101T090000
END:STANDARD
BEGIN:DAYLIGHT
TZOFFSETFROM:-0800
TZOFFSETTO:-0700
TZNAME:PDT
DTSTART:20210314T100000
END:DAYLIGHT
BEGIN:STANDARD
TZOFFSETFROM:-0700
TZOFFSETTO:-0800
TZNAME:PST
DTSTART:20211107T090000
END:STANDARD
END:VTIMEZONE
BEGIN:VEVENT
DTSTART;TZID=America/Los_Angeles:20200220T120000
DTEND;TZID=America/Los_Angeles:20200220T130000
DTSTAMP:20260420T190609
CREATED:20200220T010105Z
LAST-MODIFIED:20200220T010148Z
UID:1527-1582200000-1582203600@www.ibp.ucla.edu
SUMMARY:Xinshu (Grace) Xiao - RNA Editing in Cancer
DESCRIPTION:JCCC Seminar \nXinshu (Grace) Xiao\, PhD\nProfessor\, Integrative Biology and Physiology\nDirector\, Bioinformatics Interdepartmental Program \n“RNA Editing in Cancer”
URL:https://www.ibp.ucla.edu/event/xinshu-grace-xiao-rna-editing-in-cancer/
LOCATION:53-105 CHS
CATEGORIES:Seminars
ATTACH;FMTTYPE=image/png:https://wp.lifesci.ucla.edu/ibp/wp-content/uploads/sites/2/2020/02/Xiao-Xinshu-Grace-.png
END:VEVENT
END:VCALENDAR